Workbook

Sheet Rovatok kiadás  mód.
A1: Vasszécseny Község Önkormányzata - 2025. évi költségvetés terv
A2: Kiadások | C2: 2024 terv | D2: 2024 teljesítés | E2: 2025 eredeti | F2: 2025 módosított ei. I. | G2: 2025 évi teljesítés (2025.10.31.) | H2: 2025 módosított ei. II. | I2: Módosítás összege
A3: Törvény szerinti illetmények, munkabérek | B3: K1101 | C3: 20221680 | D3: 24011112 | E3: 26784400 | F3: 26784400 | G3: 20859359 | H3: 26774711 | I3: =H3-F3 -> -9689
A4: Normatív jutalmak | B4: K1102 | D4: 300752 | E4: 0 | F4: 0 | G4: 50000 | H4: 50000 | I4: =H4-F4 -> 50000
A5: Céljuttatás, projektprémium | B5: K1103 | E5: 0 | F5: 0 | G5: 0 | H5: 0 | I5: =H5-F5 -> 0
A6: Készenléti, ügyeleti, helyettesítési díj, túlóra, túlszolgálat | B6: K1104 | E6: 0 | F6: 0 | G6: 0 | H6: 0 | I6: =H6-F6 -> 0
A7: Végkielégítés | B7: K1105 | E7: 0 | F7: 0 | G7: 0 | H7: 0 | I7: =H7-F7 -> 0
A8: Jubileumi jutalom | B8: K1106 | E8: 0 | F8: 0 | G8: 0 | H8: 0 | I8: =H8-F8 -> 0
A9: Béren kívüli juttatások | B9: K1107 | C9: 703125 | D9: 664063 | E9: 705625 | F9: 705625 | G9: 715314 | H9: 715314 | I9: =H9-F9 -> 9689
A10: Ruházati költségtérítés | B10: K1108 | E10: 0 | F10: 0 | G10: 0 | H10: 0 | I10: =H10-F10 -> 0
A11: Közlekedési költségtérítés | B11: K1109 | C11: 48000 | D11: 32670 | E11: 100000 | F11: 100000 | G11: 0 | H11: 100000 | I11: =H11-F11 -> 0
A12: Egyéb költségtérítések | B12: K1110 | E12: 0 | F12: 0 | G12: 0 | H12: 0 | I12: =H12-F12 -> 0
A13: Lakhatási támogatások | B13: K1111 | E13: 0 | F13: 0 | G13: 0 | H13: 0 | I13: =H13-F13 -> 0
A14: Szociális támogatások | B14: K1112 | E14: 0 | F14: 0 | G14: 0 | H14: 0 | I14: =H14-F14 -> 0
A15: Foglalkoztatottak egyéb személyi juttatásai | B15: K1113 | C15: 208200 | D15: 236041 | E15: 208200 | F15: 208200 | G15: 267461 | H15: 308200 | I15: =H15-F15 -> 100000
A16: Foglalkoztatottak személyi juttatásai | B16: K11 | C16: =SUM(C3:C15) -> 21181005 | D16: =SUM(D3:D15) -> 25244638 | E16: 27798225 | F16: 27798225 | G16: =SUM(G3:G15) -> 21892134 | H16: =SUM(H3:H15) -> 27948225 | I16: =H16-F16 -> 150000
A17: Választott tisztségviselők juttatásai | B17: K121 | C17: 10631050 | D17: 13961138 | E17: 17054400 | F17: 17843400 | G17: 15196050 | H17: 17843400 | I17: =H17-F17 -> 0
A18: Munkavégzésre irányuló egyéb jogviszonyban nem saját foglalkoztatottnak fizetett juttatások | B18: K122 | E18: 500000 | F18: 1400000 | G18: 1140296 | H18: 1500000 | I18: =H18-F18 -> 100000
A19: Egyéb külső személyi juttatások | B19: K123 | D19: 448335 | E19: 950000 | F19: 950000 | G19: 244138 | H19: 950000 | I19: =H19-F19 -> 0
A20: Külső személyi juttatások | B20: K12 | C20: =SUM(C17:C19) -> 10631050 | D20: =SUM(D17:D19) -> 14409473 | E20: 18504400 | F20: 20193400 | G20: =SUM(G17:G19) -> 16580484 | H20: =SUM(H17:H19) -> 20293400 | I20: =H20-F20 -> 100000
A21: Személyi juttatások | B21: K1 | C21: =C16+C20 -> 31812055 | D21: =D16+D20 -> 39654111 | E21: 46302625 | F21: 47991625 | G21: =G16+G20 -> 38472618 | H21: =H16+H20 -> 48241625 | I21: =H21-F21 -> 250000
A22: Munkaadókat terhelő járulékok és szociális hozzájárulási adó | B22: K2 | C22: 4258233 | D22: 5026282 | E22: 6397716 | F22: 6500716 | G22: 5127310 | H22: 6500716 | I22: =H22-F22 -> 0
A23: Szakmai anyagok beszerzése | B23: K311 | C23: 210000 | D23: 668785 | E23: 950000 | F23: 950000 | G23: 233272 | H23: 950000 | I23: =H23-F23 -> 0
A24: Üzemeltetési anyagok beszerzése | B24: K312 | C24: 9000000 | D24: 8794910 | E24: 8035000 | F24: 8535000 | G24: 5414394 | H24: 8335000 | I24: =H24-F24 -> -200000
A25: Árubeszerzés | B25: K313 | E25: 0 | F25: 0 | G25: 0 | H25: 0 | I25: =H25-F25 -> 0
A26: Készletbeszerzés | B26: K31 | C26: =SUM(C23:C25) -> 9210000 | D26: =SUM(D23:D25) -> 9463695 | E26: 8985000 | F26: 9485000 | G26: =SUM(G23:G25) -> 5647666 | H26: =SUM(H23:H25) -> 9285000 | I26: =H26-F26 -> -200000
A27: Informatikai szolgáltatások igénybevétele | B27: K321 | C27: 1150000 | D27: 432905 | E27: 1150000 | F27: 1150000 | G27: 580544 | H27: 1150000 | I27: =H27-F27 -> 0
A28: Egyéb kommunikációs szolgáltatások | B28: K322 | C28: 1100000 | D28: 945492 | E28: 1040000 | F28: 1040000 | G28: 801499 | H28: 1040000 | I28: =H28-F28 -> 0
A29: Kommunikációs szolgáltatások | B29: K32 | C29: =SUM(C27:C28) -> 2250000 | D29: =SUM(D27:D28) -> 1378397 | E29: 2190000 | F29: 2190000 | G29: =SUM(G27:G28) -> 1382043 | H29: 2190000 | I29: =H29-F29 -> 0
A30: Villamosenergia szolgáltatás díja | B30: K3311 | C30: 14600000 | D30: 7296875 | E30: 8490000 | F30: 8490000 | G30: 7524197 | H30: 9501347 | I30: =H30-F30 -> 1011347
A31: Gázenergia szolgáltatás díja | B31: K3312 | C31: 7000000 | D31: 3874572 | E31: 4390000 | F31: 4390000 | G31: 3603445 | H31: 5390000 | I31: =H31-F31 -> 1000000
A32: Távhő- és melegvíz szolgáltatás díja | B32: K3313 | E32: 0 | F32: 0 | G32: 0 | H32: 0 | I32: =H32-F32 -> 0
A33: Víz- és csatorna szolgáltatás díja | B33: K3314 | C33: 200000 | D33: 245030 | E33: 350000 | F33: 350000 | G33: 905945 | H33: 910000 | I33: =H33-F33 -> 560000
A34: Közüzemi díjak | B34: K331 | C34: =SUM(C30:C33) -> 21800000 | D34: =SUM(D30:D33) -> 11416477 | E34: 13230000 | F34: 13230000 | G34: =SUM(G30:G33) -> 12033587 | H34: =SUM(H30:H33) -> 15801347 | I34: =H34-F34 -> 2571347
A35: Vásárolt élelmezés | B35: K332 | C35: 4700000 | D35: 4126471 | E35: 4400000 | F35: 4400000 | G35: 4220593 | H35: 4400000 | I35: =H35-F35 -> 0
A36: Bérleti és lízing díjak | B36: K333 | E36: 0 | F36: 0 | G36: 0 | H36: 0 | I36: =H36-F36 -> 0
A37: Karbantartási, kisjavítási szolgáltatások | B37: K334 | C37: 7200000 | D37: 1639109 | E37: 3750000 | F37: 2850000 | G37: 968590 | H37: 3750000 | I37: =H37-F37 -> 900000
A38: Közvetített szolgáltatások | B38: K335 | E38: 0 | F38: 0 | G38: 0 | H38: 0 | I38: =H38-F38 -> 0
A39: Szakmai tevékenységet segítő szolgáltatások | B39: K336 | C39: 15000000 | D39: 21623896 | E39: 18709000 | F39: 18709000 | G39: 16853063 | H39: 18909000 | I39: =H39-F39 -> 200000
A40: Egyéb szolgáltatások | B40: K337 | C40: 6900000 | D40: 5435094 | E40: 5450000 | F40: 5047913 | G40: 5892538 | H40: 7000000 | I40: =H40-F40 -> 1952087
A41: Szolgáltatási kiadások | B41: K33 | C41: =SUM(C34:C40) -> 55600000 | D41: =SUM(D34:D40) -> 44241047 | E41: 45539000 | F41: 44236913 | G41: =SUM(G34:G40) -> 39968371 | H41: =SUM(H34:H40) -> 49860347 | I41: =H41-F41 -> 5623434
A42: Kiküldetések kiadásai | B42: K341 | C42: 120000 | D42: 18425 | E42: 80000 | F42: 80000 | G42: 37220 | H42: 80000 | I42: =H42-F42 -> 0
A43: Reklám- és propagandakiadások | B43: K342 | E43: 0 | F43: 0 | G43: 0 | H43: 0 | I43: =H43-F43 -> 0
A44: Kiküldetések, reklám- és propagandakiadások | B44: K34 | C44: =SUM(C42:C43) -> 120000 | D44: =SUM(D42:D43) -> 18425 | E44: 80000 | F44: 80000 | G44: =SUM(G42:G43) -> 37220 | H44: =SUM(H42:H43) -> 80000 | I44: =H44-F44 -> 0
A45: Működési célú előzetesen felszámított általános forgalmi adó | B45: K351 | C45: 14019077 | D45: 8972295 | E45: 8645019 | F45: 8984300 | G45: 7546245 | H45: 8984300 | I45: =H45-F45 -> 0
A46: Fizetendő általános forgalmi adó | B46: K352 | D46: 15225000 | E46: 31296913 | F46: 31999000 | G46: 31819000 | H46: 32499000 | I46: =H46-F46 -> 500000
A47: Kamatkiadások | B47: K353 | C47: 3800000 | D47: 1645274 | E47: 1900000 | F47: 1900000 | G47: 892999 | H47: 1400000 | I47: =H47-F47 -> -500000
A48: Egyéb pénzügyi műveletek kiadásai | B48: K354 | E48: 0 | F48: 0 | G48: 0 | H48: 0 | I48: =H48-F48 -> 0
A49: Egyéb dologi kiadások | B49: K355 | D49: 1070328 | E49: 532000 | F49: 432000 | G49: 116934 | H49: 432000 | I49: =H49-F49 -> 0
A50: Különféle befizetések és egyéb dologi kiadások | B50: K35 | C50: =SUM(C45:C49) -> 17819077 | D50: =SUM(D45:D49) -> 26912897 | E50: 42373932 | F50: 43315300 | G50: =SUM(G45:G49) -> 40375178 | H50: =SUM(H45:H49) -> 43315300 | I50: =H50-F50 -> 0
A51: Dologi kiadások | B51: K3 | C51: =C26+C29+C41+C44+C50 -> 84999077 | D51: =D26+D29+D41+D44+D50 -> 82014461 | E51: 99167932 | F51: 99307213 | G51: =G26+G29+G41+G44+G50 -> 87410478 | H51: =H26+H29+H41+H44+H50 -> 104730647 | I51: =H51-F51 -> 5423434
A52: Társadalombiztosítási ellátások | B52: K41 | E52: 0 | F52: 0 | G52: 0 | H52: 0 | I52: =H52-F52 -> 0
A53: Családi támogatások | B53: K42 | E53: 0 | F53: 0 | G53: 0 | H53: 0 | I53: =H53-F53 -> 0
A54: Pénzbeli kárpótlások, kártérítések | B54: K43 | E54: 0 | F54: 0 | G54: 0 | H54: 0 | I54: =H54-F54 -> 0
A55: Betegséggel kapcsolatos (nem társadalombiztosítási) ellátások | B55: K44 | E55: 0 | F55: 0 | G55: 0 | H55: 0 | I55: =H55-F55 -> 0
A56: Foglalkoztatással, munkanélküliséggel kapcsolatos ellátások | B56: K45 | E56: 0 | F56: 0 | G56: 0 | H56: 0 | I56: =H56-F56 -> 0
A57: Lakhatással kapcsolatos ellátások | B57: K46 | E57: 0 | F57: 0 | G57: 0 | H57: 0 | I57: =H57-F57 -> 0
A58: Intézményi ellátottak pénzbeli juttatásai | B58: K47 | E58: 0 | F58: 0 | G58: 0 | H58: 0 | I58: =H58-F58 -> 0
A59: Egyéb nem intézményi ellátások | B59: K48 | C59: 6819442 | D59: 1820500 | E59: 5667252 | F59: 5667252 | G59: 1114000 | H59: 5667252 | I59: =H59-F59 -> 0
A60: Ellátottak pénzbeli juttatásai | B60: K4 | C60: =SUM(C52:C59) -> 6819442 | D60: =SUM(D52:D59) -> 1820500 | E60: 5667252 | F60: 5667252 | G60: =SUM(G52:G59) -> 1114000 | H60: =SUM(H52:H59) -> 5667252 | I60: =H60-F60 -> 0
A61: Nemzetközi kötelezettségek | B61: K501 | E61: 0 | F61: 0 | G61: 0 | H61: 0 | I61: =H61-F61 -> 0
A62: Elvonások és befizetések | B62: K502 | E62: 0 | F62: 472204 | G62: 472204 | H62: 472204 | I62: =H62-F62 -> 0
A63: Működési célú garancia- és kezességvállalásból származó kifizetés államháztartáson belülre | B63: K503 | E63: 0 | F63: 0 | G63: 0 | H63: 0 | I63: =H63-F63 -> 0
A64: Működési célú visszatérítendő támogatások, kölcsönök nyújtása államháztartáson belülre | B64: K504 | E64: 0 | F64: 0 | G64: 0 | H64: 0 | I64: =H64-F64 -> 0
A65: Működési célú visszatérítendő támogatások, kölcsönök törlesztése államháztartáson belülre | B65: K505 | E65: 0 | F65: 0 | G65: 0 | H65: 0 | I65: =H65-F65 -> 0
A66: Egyéb működési célú támogatások államháztartáson belülre | B66: K506 | C66: 232300052 | D66: 229636356 | E66: 245935049 | F66: 258190567 | G66: 232856250 | H66: 258190567 | I66: =H66-F66 -> 0
A67: Működési célú garancia- és kezességvállalásból származó kifizetés államháztartáson kívülre | B67: K507 | E67: 0 | F67: 0 | G67: 0 | H67: 0 | I67: =H67-F67 -> 0
A68: Működési célú visszatérítendő támogatások, kölcsönök nyújtása államháztartáson kívülre | B68: K508 | E68: 0 | F68: 0 | G68: 0 | H68: 0 | I68: =H68-F68 -> 0
A69: Árkiegészítések, ártámogatások | B69: K509 | E69: 0 | F69: 0 | G69: 0 | H69: 0 | I69: =H69-F69 -> 0
A70: Kamattámogatások | B70: K510 | E70: 0 | F70: 0 | G70: 0 | H70: 0 | I70: =H70-F70 -> 0
A71: Egyéb működési célú támogatások az Európai Uniónak | B71: K511 | E71: 0 | F71: 0 | G71: 0 | H71: 0 | I71: =H71-F71 -> 0
A72: Egyéb működési célú támogatások államháztartáson kívülre | B72: K512 | E72: 500000 | F72: 300000 | G72: 100000 | H72: 300000 | I72: =H72-F72 -> 0
A73: Tartalékok | B73: K513 | E73: 0 | F73: 0 | G73: 0 | H73: 71965553 | I73: =H73-F73 -> 71965553
A74: Egyéb működési célú kiadások | B74: K5 | C74: =SUM(C61:C73) -> 232300052 | D74: =SUM(D61:D73) -> 229636356 | E74: 246435049 | F74: 258962771 | G74: =SUM(G61:G73) -> 233428454 | H74: =SUM(H61:H73) -> 330928324 | I74: =H74-F74 -> 71965553
A75: Működési kiadások összesen | C75: =C21+C22+C51+C60+C74 -> 360188859 | D75: =D21+D22+D51+D60+D74 -> 358151710 | E75: 403970574 | F75: 418429577 | G75: =G21+G22+G51+G60+G74 -> 365552860 | H75: =H21+H22+H51+H60+H74 -> 496068564 | I75: =H75-F75 -> 77638987
A76: Immateriális javak beszerzése, létesítése | B76: K61 | E76: 0 | F76: 0 | G76: 0 | H76: 0 | I76: =H76-F76 -> 0
A77: Ingatlanok beszerzése, létesítése | B77: K62 | E77: 0 | F77: 544957 | G77: 544957 | H77: 544957 | I77: =H77-F77 -> 0
A78: Informatikai eszközök beszerzése, létesítése | B78: K63 | E78: 0 | F78: 305792 | G78: 2446443 | H78: 2448443 | I78: =H78-F78 -> 2142651
A79: Egyéb tárgyi eszközök beszerzése, létesítése | B79: K64 | E79: 7716204 | F79: 6865455 | G79: 4478329 | H79: 6565655 | I79: =H79-F79 -> -299800
A80: Részesedések beszerzése | B80: K65 | E80: 0 | F80: 0 | G80: 0 | H80: 0 | I80: =H80-F80 -> 0
A81: Meglévő részesedések növeléséhez kapcsolódó kiadások | B81: K66 | E81: 0 | F81: 0 | G81: 0 | H81: 0 | I81: =H81-F81 -> 0
A82: Beruházási célú előzetesen felszámított általános forgalmi adó | B82: K67 | E82: 2083796 | F82: 2083796 | G82: 2016828 | H82: 2083796 | I82: =H82-F82 -> 0
A83: Beruházások | B83: K6 | C83: =SUM(C76:C82) -> 0 | D83: =SUM(D76:D82) -> 0 | E83: 9800000 | F83: 9800000 | G83: =SUM(G76:G82) -> 9486557 | H83: =SUM(H76:H82) -> 11642851 | I83: =H83-F83 -> 1842851
A84: Ingatlanok felújítása | B84: K71 | C84: 188975315 | D84: 89929204 | E84: 116959636 | F84: 116202636 | G84: 83059424 | H84: 114556830 | I84: =H84-F84 -> -1645806
A85: Informatikai eszközök felújítása | B85: K72 | E85: 0 | F85: 0 | G85: 0 | H85: 0 | I85: =H85-F85 -> 0
A86: Egyéb tárgyi eszközök felújítása | B86: K73 | E86: 0 | F86: 0 | G86: 0 | H86: 0 | I86: =H86-F86 -> 0
A87: Felújítási célú előzetesen felszámított általános forgalmi adó | B87: K74 | C87: 42519685 | D87: 904368 | E87: 10045142 | F87: 9841142 | G87: 149536 | H87: 9841142 | I87: =H87-F87 -> 0
A88: Felújítások | B88: K7 | C88: =SUM(C84:C87) -> 231495000 | D88: =SUM(D84:D87) -> 90833572 | E88: 127004778 | F88: 126043778 | G88: =SUM(G84:G87) -> 83208960 | H88: =SUM(H84:H87) -> 124397972 | I88: =H88-F88 -> -1645806
A89: Felhalmozási célú garancia- és kezességvállalásból származó kifizetés államháztartáson belülre | B89: K81 | E89: 0 | F89: 0 | G89: 0 | H89: 0 | I89: =H89-F89 -> 0
A90: Felhalmozási célú visszatérítendő támogatások, kölcsönök nyújtása államháztartáson belülre | B90: K82 | E90: 0 | F90: 0 | G90: 0 | H90: 0 | I90: =H90-F90 -> 0
A91: Felhalmozási célú visszatérítendő támogatások, kölcsönök törlesztése államháztartáson belülre | B91: K83 | E91: 0 | F91: 0 | G91: 0 | H91: 0 | I91: =H91-F91 -> 0
A92: Egyéb felhalmozási célú támogatások államháztartáson belülre | B92: K84 | E92: 0 | F92: 0 | G92: 0 | H92: 0 | I92: =H92-F92 -> 0
A93: Felhalmozási célú garancia- és kezességvállalásból származó kifizetés államháztartáson kívülre | B93: K85 | E93: 0 | F93: 0 | G93: 0 | H93: 0 | I93: =H93-F93 -> 0
A94: Felhalmozási célú visszatérítendő támogatások, kölcsönök nyújtása államháztartáson kívülre | B94: K86 | E94: 0 | F94: 0 | G94: 0 | H94: 0 | I94: =H94-F94 -> 0
A95: Lakástámogatás | B95: K87 | E95: 0 | F95: 0 | G95: 0 | H95: 0 | I95: =H95-F95 -> 0
A96: Felhalmozási célú támogatások az Európai Uniónak | B96: K88 | E96: 0 | F96: 0 | G96: 0 | H96: 0 | I96: =H96-F96 -> 0
A97: Egyéb felhalmozási célú támogatások államháztartáson kívülre | B97: K89 | E97: 0 | F97: 0 | G97: 0 | H97: 0 | I97: =H97-F97 -> 0
A98: Egyéb felhalmozási célú kiadások | B98: K8 | C98: =SUM(C89:C97) -> 0 | D98: =SUM(D89:D97) -> 0 | E98: 0 | F98: 0 | G98: =SUM(G89:G97) -> 0 | H98: 0 | I98: =H98-F98 -> 0
A99: Felhalmozási kiadások összesen | C99: =C83+C88+C98 -> 231495000 | D99: =D83+D88+D98 -> 90833572 | E99: 136804778 | F99: 135843778 | G99: =G83+G88 -> 92695517 | H99: =H83+H88 -> 136040823 | I99: =H99-F99 -> 197045
A100: Költségvetési kiadások | B100: K1-K8 | C100: =C21+C22+C51+C60+C74+C83+C88+C98 -> 591683859 | D100: =D21+D22+D51+D60+D74+D83+D88+D98 -> 448985282 | E100: 540775352 | F100: 554273355 | G100: =G21+G22+G51+G60+G74+G83+G88+G98 -> 458248377 | H100: =H21+H22+H51+H60+H74+H83+H88+H98 -> 632109387 | I100: =H100-F100 -> 77836032
...

Sheet Rovatok bevétel mód.
A1: Vasszécseny Község Önkormányzata - 2025. évi költségvetés terv
A2: Bevételek | C2: 2024 eredeti | D2: 2024 teljesítés | E2: 2025 eredeti | F2: 2025 módosítás I. | G2: 2025. évi teljesítés (2025.10.31.) | H2: 2025 módosítás II. | I2: Módosítás összege
A3: Helyi önkormányzatok működésének általános támogatása | B3: B111 | C3: 126404744 | D3: 122514744 | E3: 180778862 | F3: 196145684 | G3: 162991896 | H3: 196145684 | I3: =H3-F3 -> 0
A4: Települési önkormányzatok egyes köznevelési feladatainak támogatása | B4: B112 | C4: 107795230 | D4: 108635854 | E4: 115316256 | F4: 121477256 | G4: 100972982 | H4: 121477256 | I4: =H4-F4 -> 0
A5: Települési önkormányzatok egyes szociális és gyermekjóléti feladatainak támogatása | B5: B1131 | C5: 96794562 | D5: 88177502 | E5: 102945876 | F5: 112219036 | G5: 92656643 | H5: 112219036 | I5: =H5-F5 -> 0
A6: Települési önkormányzatok gyermekétkeztetési feladatainak támogatása | B6: B1132 | C6: 33366622 | D6: 31420519 | E6: 30275331 | F6: 31342111 | G6: 26142461 | H6: 31342111 | I6: =H6-F6 -> 0
A7: Települési önkormányzatok kulturális feladatainak támogatása | B7: B114 | C7: 2958781 | D7: 2958781 | E7: 2932225 | F7: 2932225 | G7: 2463069 | H7: 2932225 | I7: =H7-F7 -> 0
A8: Működési célú költségvetési támogatások és kiegészítő támogatások | B8: B115 | D8: 6868518 | E8: 0 | F8: 3560440 | G8: 6493363 | H8: 6493363 | I8: =H8-F8 -> 2932923
A9: Elszámolásból származó bevételek | B9: B116 | D9: 349828 | E9: 0 | F9: 0 | G9: 0 | H9: 0 | I9: =H9-F9 -> 0
A10: Önkormányzatok működési támogatásai | B10: B11 | C10: =SUM(C3:C9) -> 367319939 | D10: =SUM(D3:D9) -> 360925746 | E10: 432248550 | F10: 467676752 | G10: =SUM(G3:G9) -> 391720414 | H10: =SUM(H3:H9) -> 470609675 | I10: =H10-F10 -> 2932923
A11: Elvonások és befizetések bevételei | B11: B12 | E11: 0 | F11: 0 | G11: 0 | H11: 0 | I11: =H11-F11 -> 0
A12: Működési célú garancia- és kezességvállalásból származó megtérülések államháztartáson belülről | B12: B13 | E12: 0 | F12: 0 | G12: 0 | H12: 0 | I12: =H12-F12 -> 0
A13: Működési célú visszatérítendő támogatások, kölcsönök visszatérülése államháztartáson belülről | B13: B14 | E13: 0 | F13: 0 | G13: 0 | H13: 0 | I13: =H13-F13 -> 0
A14: Működési célú visszatérítendő támogatások, kölcsönök igénybevétele államháztartáson belülről | B14: B15 | E14: 0 | F14: 0 | G14: 0 | H14: 0 | I14: =H14-F14 -> 0
A15: Egyéb működési célú támogatások bevételei államháztartáson belülről | B15: B16 | C15: 28260590 | D15: 38837470 | E15: 38952021 | F15: 34952021 | G15: 31005137 | H15: 34952021 | I15: =H15-F15 -> 0
A16: Működési célú támogatások államháztartáson belülről | B16: B1 | C16: =SUM(C10:C15) -> 395580529 | D16: =SUM(D10:D15) -> 399763216 | E16: 471200571 | F16: 502628773 | G16: =SUM(G10:G15) -> 422725551 | H16: =SUM(H10:H15) -> 505561696 | I16: =H16-F16 -> 2932923
A17: Magánszemélyek jövedelemadói | B17: B311 | E17: 0 | F17: 0 | G17: 0 | H17: 0 | I17: =H17-F17 -> 0
A18: Társaságok jövedelemadói | B18: B312 | E18: 0 | F18: 0 | G18: 0 | H18: 0 | I18: =H18-F18 -> 0
A19: Jövedelemadók | B19: B31 | C19: =SUM(C17:C18) -> 0 | D19: =SUM(D17:D18) -> 0 | E19: 0 | F19: 0 | G19: =SUM(G17:G18) -> 0 | H19: 0 | I19: =H19-F19 -> 0
A20: Szociális hozzájárulási adó és járulékok | B20: B32 | E20: 0 | F20: 0 | G20: 0 | H20: 0 | I20: =H20-F20 -> 0
A21: Bérhez és foglalkoztatáshoz kapcsolódó adók | B21: B33 | E21: 0 | F21: 0 | G21: 0 | H21: 0 | I21: =H21-F21 -> 0
A22: Vagyoni típusú adók | B22: B34 | E22: 0 | F22: 0 | G22: 0 | H22: 0 | I22: =H22-F22 -> 0
A23: Értékesítési és forgalmi adók | B23: B351 | C23: 17000000 | D23: 32889557 | E23: 22000000 | F23: 22000000 | G23: 33729603 | H23: 22000000 | I23: =H23-F23 -> 0
A24: Fogyasztási adók | B24: B352 | E24: 0 | F24: 0 | G24: 0 | H24: 0 | I24: =H24-F24 -> 0
A25: Pénzügyi monopóliumok nyereségét terhelő adók | B25: B353 | E25: 0 | F25: 0 | G25: 0 | H25: 0 | I25: =H25-F25 -> 0
A26: Gépjárműadók | B26: B354 | E26: 0 | F26: 0 | G26: 0 | H26: 0 | I26: =H26-F26 -> 0
A27: Egyéb áruhasználati és szolgáltatási adók | B27: B355 | C27: 300000 | D27: 272600 | E27: 270000 | F27: 270000 | G27: 185200 | H27: 200000 | I27: =H27-F27 -> -70000
A28: Termékek és szolgáltatások adói | B28: B35 | C28: =SUM(C23:C27) -> 17300000 | D28: =SUM(D23:D27) -> 33162157 | E28: 22270000 | F28: 22270000 | G28: =SUM(G23:G27) -> 33914803 | H28: =SUM(H23:H27) -> 22200000 | I28: =H28-F28 -> -70000
A29: Egyéb közhatalmi bevételek | B29: B36 | D29: 2071572 | E29: 1000000 | F29: 800000 | G29: 530712 | H29: 650000 | I29: =H29-F29 -> -150000
A30: Közhatalmi bevételek | B30: B3 | C30: =C19+C20+C21+C22+C28+C29 -> 17300000 | D30: =D19+D20+D21+D22+D28+D29 -> 35233729 | E30: 23270000 | F30: 23070000 | G30: =G19+G20+G21+G22+G28+G29 -> 34445515 | H30: =H19+H20+H21+H22+H28+H29 -> 22850000 | I30: =H30-F30 -> -220000
A31: Készletértékesítés ellenértéke | B31: B401 | E31: 0 | F31: 0 | G31: 0 | H31: 0 | I31: =H31-F31 -> 0
A32: Szolgáltatások ellenértéke | B32: B402 | C32: 2600000 | D32: 5614712 | E32: 3555000 | F32: 3555000 | G32: 3741891 | H32: 3605000 | I32: =H32-F32 -> 50000
A33: Közvetített szolgáltatások ellenértéke | B33: B403 | E33: 0 | F33: 0 | G33: 0 | H33: 0 | I33: =H33-F33 -> 0
A34: Tulajdonosi bevételek | B34: B404 | C34: 2712500 | E34: 0 | F34: 0 | G34: 0 | H34: 0 | I34: =H34-F34 -> 0
A35: Ellátási díjak | B35: B405 | C35: 3000000 | D35: 2933390 | E35: 3000000 | F35: 3000000 | G35: 2516075 | H35: 3000000 | I35: =H35-F35 -> 0
A36: Kiszámlázott általános forgalmi adó | B36: B406 | C36: 1300000 | D36: 1235770 | E36: 10255863 | F36: 10255863 | G36: 10378237 | H36: 10378237 | I36: =H36-F36 -> 122374
A37: Általános forgalmi adó visszatérítése | B37: B407 | E37: 0 | F37: 0 | G37: 0 | H37: 0 | I37: =H37-F37 -> 0
A38: Kamatbevételek és más nyereségjellegű bevételek | B38: B408 | D38: 21 | E38: 0 | F38: 0 | G38: 42 | H38: 0 | I38: =H38-F38 -> 0
A39: Egyéb pénzügyi műveletek bevételei | B39: B409 | E39: 0 | F39: 0 | G39: 0 | H39: 0 | I39: =H39-F39 -> 0
A40: Biztosító által fizetett kártérítés | B40: B410 | E40: 0 | F40: 0 | G40: 41250 | H40: 41250 | I40: =H40-F40 -> 41250
A41: Egyéb működési bevételek | B41: B411 | D41: 224887 | E41: 0 | F41: 0 | G41: 2943932 | H41: 2943932 | I41: =H41-F41 -> 2943932
A42: Működési bevételek | B42: B4 | C42: =SUM(C31:C41) -> 9612500 | D42: =SUM(D31:D41) -> 10008780 | E42: 16810863 | F42: 16810863 | G42: =SUM(G31:G41) -> 19621427 | H42: =SUM(H31:H41) -> 19968419 | I42: =H42-F42 -> 3157556
A43: Működési célú garancia- és kezességvállalásból származó megtérülések államháztartáson kívülről | B43: B61 | E43: 0 | F43: 0 | G43: 0 | H43: 0 | I43: =H43-F43 -> 0
A44: Működési célú visszatérítendő támogatások, kölcsönök visszatérülése az Európai Uniótól | B44: B62 | E44: 0 | F44: 0 | G44: 0 | H44: 0 | I44: =H44-F44 -> 0
A45: Működési célú visszatérítendő támogatások, kölcsönök visszatérülése kormányoktól és más nemzetközi szervezetektől | B45: B63 | E45: 0 | F45: 0 | G45: 0 | H45: 0 | I45: =H45-F45 -> 0
A46: Működési célú visszatérítendő támogatások, kölcsönök visszatérülése államháztartáson kívülről | B46: B64 | E46: 0 | F46: 0 | G46: 0 | H46: 0 | I46: =H46-F46 -> 0
A47: Egyéb működési célú átvett pénzeszközök | B47: B65 | E47: 0 | F47: 0 | G47: 0 | H47: 0 | I47: =H47-F47 -> 0
A48: Működési célú átvett pénzeszközök | B48: B6 | C48: =SUM(C43:C47) -> 0 | D48: =SUM(D43:D47) -> 0 | E48: 0 | F48: 0 | G48: =SUM(G43:G47) -> 0 | H48: 0 | I48: =H48-F48 -> 0
A49: Működési bevételek összesen | C49: =C16+C30+C42+C48 -> 422493029 | D49: =D16+D30+D42+D48 -> 445005725 | E49: 511281434 | F49: 542509636 | G49: =G16+G30+G42+G48 -> 476792493 | H49: 542509636 | I49: =H49-F49 -> 0
A50: Felhalmozási célú önkormányzati támogatások | B50: B21 | E50: 0 | F50: 0 | G50: 0 | H50: 0 | I50: =H50-F50 -> 0
A51: Felhalmozási célú garancia- és kezességvállalásból származó megtérülések államháztartáson belülről | B51: B22 | E51: 0 | F51: 0 | G51: 0 | H51: 0 | I51: =H51-F51 -> 0
A52: Felhalmozási célú visszatérítendő támogatások, kölcsönök visszatérülése államháztartáson belülről | B52: B23 | E52: 0 | F52: 0 | G52: 0 | H52: 0 | I52: =H52-F52 -> 0
A53: Felhalmozási célú visszatérítendő támogatások, kölcsönök igénybevétele államháztartáson belülről | B53: B24 | E53: 0 | F53: 0 | G53: 0 | H53: 0 | I53: =H53-F53 -> 0
A54: Egyéb felhalmozási célú támogatások bevételei államháztartáson belülről | B54: B25 | C54: 200000000 | D54: 150516669 | E54: 41445948 | F54: 41445948 | G54: 113411501 | H54: 113411501 | I54: =H54-F54 -> 71965553
A55: Felhalmozási célú támogatások államháztartáson belülről | B55: B2 | C55: =SUM(C50:C54) -> 200000000 | D55: =SUM(D50:D54) -> 150516669 | E55: 41445948 | F55: 41445948 | G55: =SUM(G50:G54) -> 113411501 | H55: =SUM(H50:H54) -> 113411501 | I55: =H55-F55 -> 71965553
A56: Immateriális javak értékesítése | B56: B51 | E56: 0 | F56: 0 | G56: 0 | H56: 0 | I56: =H56-F56 -> 0
A57: Ingatlanok értékesítése | B57: B52 | C57: 37995000 | E57: 43567087 | F57: 43567087 | G57: 43567087 | H57: 43567087 | I57: =H57-F57 -> 0
A58: Egyéb tárgyi eszközök értékesítése | B58: B53 | D58: 118897 | E58: 0 | F58: 0 | G58: 0 | H58: 0 | I58: =H58-F58 -> 0
A59: Részesedések értékesítése | B59: B54 | E59: 0 | F59: 0 | G59: 0 | H59: 0 | I59: =H59-F59 -> 0
A60: Részesedések megszűnéséhez kapcsolódó bevételek | B60: B55 | E60: 0 | F60: 0 | G60: 0 | H60: 0 | I60: =H60-F60 -> 0
A61: Felhalmozási bevételek | B61: B5 | C61: =SUM(C56:C60) -> 37995000 | D61: =SUM(D56:D60) -> 118897 | E61: 43567087 | F61: 43567087 | G61: =SUM(G56:G60) -> 43567087 | H61: =SUM(H56:H60) -> 43567087 | I61: =H61-F61 -> 0
A62: Felhalmozási célú garancia- és kezességvállalásból származó megtérülések államháztartáson kívülről | B62: B71 | E62: 0 | F62: 0 | G62: 0 | H62: 0 | I62: =H62-F62 -> 0
A63: Felhalmozási célú visszatérítendő támogatások, kölcsönök visszatérülése Európai Uniótól | B63: B72 | E63: 0 | F63: 0 | G63: 0 | H63: 0 | I63: =H63-F63 -> 0
A64: Felhalmozási célú visszatérítendő támogatások, kölcsönök visszatérülése kormányoktól és más nemzetközi szervezetektől | B64: B73 | E64: 0 | F64: 0 | G64: 0 | H64: 0 | I64: =H64-F64 -> 0
A65: Felhalmozási célú visszatérítendő támogatások, kölcsönök visszatérülése államháztartáson kívülről | B65: B74 | E65: 0 | F65: 0 | G65: 0 | H65: 0 | I65: =H65-F65 -> 0
A66: Egyéb felhalmozási célú átvett pénzeszközök | B66: B75 | E66: 0 | F66: 0 | G66: 0 | H66: 0 | I66: =H66-F66 -> 0
A67: Felhalmozási célú átvett pénzeszközök | B67: B7 | C67: =SUM(C62:C66) -> 0 | D67: =SUM(D62:D66) -> 0 | E67: 0 | F67: 0 | G67: =SUM(G62:G66) -> 0 | H67: 0 | I67: =H67-F67 -> 0
A68: Felhalmozási bevételek összesen | C68: =C55+C61+C67 -> 237995000 | D68: =D55+D61+D67 -> 150635566 | E68: 85013035 | F68: 85013035 | G68: =G55+G61+G67 -> 156978588 | H68: =H55+H61+H67 -> 156978588 | I68: =H68-F68 -> 71965553
A69: Költségvetési bevételek | B69: B1-B7 | C69: =C16+C30+C42+C48+C55+C61+C67 -> 660488029 | D69: =D16+D30+D42+D48+D55+D61+D67 -> 595641291 | E69: 596294469 | F69: 627522671 | G69: =G16+G30+G42+G48+G55+G61+G67 -> 633771081 | H69: =H16+H30+H42+H48+H55+H61+H67 -> 705358703 | I69: =H69-F69 -> 77836032
A70: Működési bevételek és működési kiadások egyenlege | C70: =C49-'Rovatok kiadás mód.'!C75 -> 62304170 | D70: =D49-'Rovatok kiadás mód.'!D75 -> 86854015 | E70: =E49-'Rovatok kiadás mód.'!E75 -> 107310860 | F70: 124080059 | G70: =G49-'Rovatok kiadás mód.'!G75 -> 111239633 | H70: =H49-'Rovatok kiadás mód.'!H75 -> 46441072 | I70: =H70-F70 -> -77638987
A71: Felhalmozási bevételek és a felhalmozási kiadások egyenlege | C71: =C68-'Rovatok kiadás mód.'!C99 -> 6500000 | D71: =D68-'Rovatok kiadás mód.'!D99 -> 59801994 | E71: =E68-'Rovatok kiadás mód.'!E99 -> -51791743 | F71: -51791743 | G71: =G68-'Rovatok kiadás mód.'!G99 -> 64283071 | H71: =H68-'Rovatok kiadás mód.'!H99 -> 20937765 | I71: =H71-F71 -> 72729508
A72: Hosszú lejáratú hitelek, kölcsönök felvétele pénzügyi vállalkozástól | B72: B8111 | E72: 0 | F72: 0 | G72: 0 | H72: 0 | I72: =H72-F72 -> 0
A73: Likviditási célú hitelek, kölcsönök felvétele pénzügyi vállalkozástól | B73: B8112 | E73: 0 | F73: 0 | G73: 0 | H73: 0 | I73: =H73-F73 -> 0
A74: Rövid lejáratú hitelek, kölcsönök felvétele pénzügyi vállalkozástól | B74: B8113 | E74: 0 | F74: 0 | G74: 0 | H74: 0 | I74: =H74-F74 -> 0
A75: Hitel-, kölcsönfelvétel pénzügyi vállalkozástól | B75: B811 | C75: =SUM(C72:C74) -> 0 | D75: =SUM(D72:D74) -> 0 | E75: 0 | F75: 0 | G75: 0 | H75: 0 | I75: =H75-F75 -> 0
A76: Forgatási célú belföldi értékpapírok beváltása, értékesítése | B76: B8121 | E76: 0 | F76: 0 | G76: 0 | H76: 0 | I76: =H76-F76 -> 0
A77: Éven belüli lejáratú belföldi értékpapírok kibocsátása | B77: B8122 | E77: 0 | F77: 0 | G77: 0 | H77: 0 | I77: =H77-F77 -> 0
A78: Befektetési célú belföldi értékpapírok beváltása, értékesítése | B78: B8123 | E78: 0 | F78: 0 | G78: 0 | H78: 0 | I78: =H78-F78 -> 0
A79: Éven túli lejáratú belföldi értékpapírok kibocsátása | B79: B8124 | E79: 0 | F79: 0 | G79: 0 | H79: 0 | I79: =H79-F79 -> 0
A80: Belföldi értékpapírok bevételei | B80: B812 | C80: =SUM(C76:C79) -> 0 | D80: =SUM(D76:D79) -> 0 | E80: 0 | F80: 0 | G80: 0 | H80: 0 | I80: =H80-F80 -> 0
A81: Előző év költségvetési maradványának igénybevétele MŰKÖDÉSRE | B81: B8131 | C81: 36969729 | D81: 36969729 | E81: 90615000 | F81: 90615000 | G81: 90615000 | H81: 90615000 | I81: =H81-F81 -> 0
A82: Előző év költségvetési maradványának igénybevétele FELHALMOZÁSRA | B82: B8131 | E82: 0 | F82: 0 | G82: 0 | H82: 0 | I82: =H82-F82 -> 0
A83: Előző év vállalkozási maradványának igénybevétele MŰKÖDÉSRE | B83: B8132 | E83: 0 | F83: 0 | G83: 0 | H83: 0 | I83: =H83-F83 -> 0
A84: Előző év vállalkozási maradványának igénybevétele FELHALMOZÁSRA | B84: B8132 | E84: 0 | F84: 0 | G84: 0 | H84: 0 | I84: =H84-F84 -> 0
A85: Maradvány igénybevétele | B85: B813 | C85: =SUM(C81:C84) -> 36969729 | D85: =SUM(D81:D84) -> 36969729 | E85: 90615000 | F85: 90615000 | G85: =SUM(G81:G84) -> 90615000 | H85: =SUM(H81:H84) -> 90615000 | I85: =H85-F85 -> 0
A86: Államháztartáson belüli megelőlegezések | B86: B814 | D86: 13290706 | E86: 0 | F86: 0 | G86: 0 | H86: 0 | I86: =H86-F86 -> 0
A87: Államháztartáson belüli megelőlegezések törlesztése | B87: B815 | E87: 0 | F87: 0 | G87: 0 | H87: 0 | I87: =H87-F87 -> 0
A88: Központi, irányító szervi támogatás | B88: B816 | E88: 0 | F88: 0 | G88: 0 | H88: 0 | I88: =H88-F88 -> 0
A89: Lekötött bankbetétek megszüntetése | B89: B817 | E89: 0 | F89: 0 | G89: 0 | H89: 0 | I89: =H89-F89 -> 0
A90: Központi költségvetés sajátos finanszírozási bevételei | B90: B818 | E90: 0 | F90: 0 | G90: 0 | H90: 0 | I90: =H90-F90 -> 0
A91: Tulajdonosi kölcsönök bevételei | B91: B819 | E91: 0 | F91: 0 | G91: 0 | H91: 0 | I91: =H91-F91 -> 0
A92: Belföldi finanszírozás bevételei | B92: B81 | C92: =C75+C80+C85+C86+C87+C88+C89+C90+C91 -> 36969729 | D92: =D75+D80+D85+D86+D87+D88+D89+D90+D91 -> 50260435 | E92: 90615000 | F92: 90615000 | G92: =G85 -> 90615000 | H92: =H85 -> 90615000 | I92: =H92-F92 -> 0
A93: Forgatási célú külföldi értékpapírok beváltása, értékesítése | B93: B821 | E93: 0 | F93: 0 | G93: 0 | H93: 0 | I93: =H93-F93 -> 0
A94: Befektetési célú külföldi értékpapírok beváltása értékesítése | B94: B822 | E94: 0 | F94: 0 | G94: 0 | H94: 0 | I94: =H94-F94 -> 0
A95: Külföldi értékpapírok kibocsátása | B95: B823 | E95: 0 | F95: 0 | H95: 0 | I95: =H95-F95 -> 0
A96: Hitelek, kölcsönök felvétele külföldi kormányoktól és nemzetközi szervezetektől | B96: B824 | E96: 0 | F96: 0 | G96: 0 | H96: 0 | I96: =H96-F96 -> 0
A97: Hitelek, kölcsönök felvétele külföldi pénzintézetektől | B97: B825 | E97: 0 | F97: 0 | G97: 0 | H97: 0 | I97: =H97-F97 -> 0
A98: Külföldi finanszírozás bevételei | B98: B82 | C98: =SUM(C93:C97) -> 0 | D98: =SUM(D93:D97) -> 0 | E98: 0 | F98: 0 | G98: 0 | H98: 0 | I98: =H98-F98 -> 0
A99: Adóssághoz nem kapcsolódó származékos ügyletek bevételei | B99: B83 | E99: 0 | F99: 0 | G99: 0 | H99: 0 | I99: =H99-F99 -> 0
A100: Váltóbevételek | B100: B84 | E100: 0 | F100: 0 | G100: 0 | H100: 0 | I100: =H100-F100 -> 0
...
