Workbook

Sheet Rovatok kiadás  mód.
A1: Vasszécseny Község Önkormányzata - 2025. évi költségvetés terv
A2: Kiadások | C2: 2024 terv | D2: 2024 teljesítés | E2: 2025 eredeti | F2: 2025 módosított ei. I. | G2: 2025 évi teljesítés (2025.10.31.) | H2: 2025 módosított ei. II. | I2: Módosítás összege
A3: Törvény szerinti illetmények, munkabérek | B3: K1101 | C3: 20221680 | D3: 24011112 | E3: 26784400 | F3: 26784400 | G3: 20859359 | H3: 26774711 | I3: =H3-F3 -> -9689
A4: Normatív jutalmak | B4: K1102 | D4: 300752 | E4: 0 | F4: 0 | G4: 50000 | H4: 50000 | I4: =H4-F4 -> 50000
A5: Céljuttatás, projektprémium | B5: K1103 | E5: 0 | F5: 0 | G5: 0 | H5: 0 | I5: =H5-F5 -> 0
A6: Készenléti, ügyeleti, helyettesítési díj, túlóra, túlszolgálat | B6: K1104 | E6: 0 | F6: 0 | G6: 0 | H6: 0 | I6: =H6-F6 -> 0
A7: Végkielégítés | B7: K1105 | E7: 0 | F7: 0 | G7: 0 | H7: 0 | I7: =H7-F7 -> 0
A8: Jubileumi jutalom | B8: K1106 | E8: 0 | F8: 0 | G8: 0 | H8: 0 | I8: =H8-F8 -> 0
A9: Béren kívüli juttatások | B9: K1107 | C9: 703125 | D9: 664063 | E9: 705625 | F9: 705625 | G9: 715314 | H9: 715314 | I9: =H9-F9 -> 9689
A10: Ruházati költségtérítés | B10: K1108 | E10: 0 | F10: 0 | G10: 0 | H10: 0 | I10: =H10-F10 -> 0
A11: Közlekedési költségtérítés | B11: K1109 | C11: 48000 | D11: 32670 | E11: 100000 | F11: 100000 | G11: 0 | H11: 100000 | I11: =H11-F11 -> 0
A12: Egyéb költségtérítések | B12: K1110 | E12: 0 | F12: 0 | G12: 0 | H12: 0 | I12: =H12-F12 -> 0
A13: Lakhatási támogatások | B13: K1111 | E13: 0 | F13: 0 | G13: 0 | H13: 0 | I13: =H13-F13 -> 0
A14: Szociális támogatások | B14: K1112 | E14: 0 | F14: 0 | G14: 0 | H14: 0 | I14: =H14-F14 -> 0
A15: Foglalkoztatottak egyéb személyi juttatásai | B15: K1113 | C15: 208200 | D15: 236041 | E15: 208200 | F15: 208200 | G15: 267461 | H15: 308200 | I15: =H15-F15 -> 100000
A16: Foglalkoztatottak személyi juttatásai | B16: K11 | C16: =SUM(C3:C15) -> 21181005 | D16: =SUM(D3:D15) -> 25244638 | E16: 27798225 | F16: 27798225 | G16: =SUM(G3:G15) -> 21892134 | H16: =SUM(H3:H15) -> 27948225 | I16: =H16-F16 -> 150000
A17: Választott tisztségviselők juttatásai | B17: K121 | C17: 10631050 | D17: 13961138 | E17: 17054400 | F17: 17843400 | G17: 15196050 | H17: 17843400 | I17: =H17-F17 -> 0
A18: Munkavégzésre irányuló egyéb jogviszonyban nem saját foglalkoztatottnak fizetett juttatások | B18: K122 | E18: 500000 | F18: 1400000 | G18: 1140296 | H18: 1500000 | I18: =H18-F18 -> 100000
A19: Egyéb külső személyi juttatások | B19: K123 | D19: 448335 | E19: 950000 | F19: 950000 | G19: 244138 | H19: 950000 | I19: =H19-F19 -> 0
A20: Külső személyi juttatások | B20: K12 | C20: =SUM(C17:C19) -> 10631050 | D20: =SUM(D17:D19) -> 14409473 | E20: 18504400 | F20: 20193400 | G20: =SUM(G17:G19) -> 16580484 | H20: =SUM(H17:H19) -> 20293400 | I20: =H20-F20 -> 100000
A21: Személyi juttatások | B21: K1 | C21: =C16+C20 -> 31812055 | D21: =D16+D20 -> 39654111 | E21: 46302625 | F21: 47991625 | G21: =G16+G20 -> 38472618 | H21: =H16+H20 -> 48241625 | I21: =H21-F21 -> 250000
A22: Munkaadókat terhelő járulékok és szociális hozzájárulási adó | B22: K2 | C22: 4258233 | D22: 5026282 | E22: 6397716 | F22: 6500716 | G22: 5127310 | H22: 6500716 | I22: =H22-F22 -> 0
A23: Szakmai anyagok beszerzése | B23: K311 | C23: 210000 | D23: 668785 | E23: 950000 | F23: 950000 | G23: 233272 | H23: 950000 | I23: =H23-F23 -> 0
A24: Üzemeltetési anyagok beszerzése | B24: K312 | C24: 9000000 | D24: 8794910 | E24: 8035000 | F24: 8535000 | G24: 5414394 | H24: 8335000 | I24: =H24-F24 -> -200000
A25: Árubeszerzés | B25: K313 | E25: 0 | F25: 0 | G25: 0 | H25: 0 | I25: =H25-F25 -> 0
A26: Készletbeszerzés | B26: K31 | C26: =SUM(C23:C25) -> 9210000 | D26: =SUM(D23:D25) -> 9463695 | E26: 8985000 | F26: 9485000 | G26: =SUM(G23:G25) -> 5647666 | H26: =SUM(H23:H25) -> 9285000 | I26: =H26-F26 -> -200000
A27: Informatikai szolgáltatások igénybevétele | B27: K321 | C27: 1150000 | D27: 432905 | E27: 1150000 | F27: 1150000 | G27: 580544 | H27: 1150000 | I27: =H27-F27 -> 0
A28: Egyéb kommunikációs szolgáltatások | B28: K322 | C28: 1100000 | D28: 945492 | E28: 1040000 | F28: 1040000 | G28: 801499 | H28: 1040000 | I28: =H28-F28 -> 0
A29: Kommunikációs szolgáltatások | B29: K32 | C29: =SUM(C27:C28) -> 2250000 | D29: =SUM(D27:D28) -> 1378397 | E29: 2190000 | F29: 2190000 | G29: =SUM(G27:G28) -> 1382043 | H29: 2190000 | I29: =H29-F29 -> 0
A30: Villamosenergia szolgáltatás díja | B30: K3311 | C30: 14600000 | D30: 7296875 | E30: 8490000 | F30: 8490000 | G30: 7524197 | H30: 9501347 | I30: =H30-F30 -> 1011347
A31: Gázenergia szolgáltatás díja | B31: K3312 | C31: 7000000 | D31: 3874572 | E31: 4390000 | F31: 4390000 | G31: 3603445 | H31: 5390000 | I31: =H31-F31 -> 1000000
A32: Távhő- és melegvíz szolgáltatás díja | B32: K3313 | E32: 0 | F32: 0 | G32: 0 | H32: 0 | I32: =H32-F32 -> 0
A33: Víz- és csatorna szolgáltatás díja | B33: K3314 | C33: 200000 | D33: 245030 | E33: 350000 | F33: 350000 | G33: 905945 | H33: 910000 | I33: =H33-F33 -> 560000
A34: Közüzemi díjak | B34: K331 | C34: =SUM(C30:C33) -> 21800000 | D34: =SUM(D30:D33) -> 11416477 | E34: 13230000 | F34: 13230000 | G34: =SUM(G30:G33) -> 12033587 | H34: =SUM(H30:H33) -> 15801347 | I34: =H34-F34 -> 2571347
A35: Vásárolt élelmezés | B35: K332 | C35: 4700000 | D35: 4126471 | E35: 4400000 | F35: 4400000 | G35: 4220593 | H35: 4400000 | I35: =H35-F35 -> 0
A36: Bérleti és lízing díjak | B36: K333 | E36: 0 | F36: 0 | G36: 0 | H36: 0 | I36: =H36-F36 -> 0
A37: Karbantartási, kisjavítási szolgáltatások | B37: K334 | C37: 7200000 | D37: 1639109 | E37: 3750000 | F37: 2850000 | G37: 968590 | H37: 3750000 | I37: =H37-F37 -> 900000
A38: Közvetített szolgáltatások | B38: K335 | E38: 0 | F38: 0 | G38: 0 | H38: 0 | I38: =H38-F38 -> 0
A39: Szakmai tevékenységet segítő szolgáltatások | B39: K336 | C39: 15000000 | D39: 21623896 | E39: 18709000 | F39: 18709000 | G39: 16853063 | H39: 18909000 | I39: =H39-F39 -> 200000
A40: Egyéb szolgáltatások | B40: K337 | C40: 6900000 | D40: 5435094 | E40: 5450000 | F40: 5047913 | G40: 5892538 | H40: 7000000 | I40: =H40-F40 -> 1952087
...

Sheet Rovatok bevétel mód.
A1: Vasszécseny Község Önkormányzata - 2025. évi költségvetés terv
A2: Bevételek | C2: 2024 eredeti | D2: 2024 teljesítés | E2: 2025 eredeti | F2: 2025 módosítás I. | G2: 2025. évi teljesítés (2025.10.31.) | H2: 2025 módosítás II. | I2: Módosítás összege
A3: Helyi önkormányzatok működésének általános támogatása | B3: B111 | C3: 126404744 | D3: 122514744 | E3: 180778862 | F3: 196145684 | G3: 162991896 | H3: 196145684 | I3: =H3-F3 -> 0
A4: Települési önkormányzatok egyes köznevelési feladatainak támogatása | B4: B112 | C4: 107795230 | D4: 108635854 | E4: 115316256 | F4: 121477256 | G4: 100972982 | H4: 121477256 | I4: =H4-F4 -> 0
A5: Települési önkormányzatok egyes szociális és gyermekjóléti feladatainak támogatása | B5: B1131 | C5: 96794562 | D5: 88177502 | E5: 102945876 | F5: 112219036 | G5: 92656643 | H5: 112219036 | I5: =H5-F5 -> 0
A6: Települési önkormányzatok gyermekétkeztetési feladatainak támogatása | B6: B1132 | C6: 33366622 | D6: 31420519 | E6: 30275331 | F6: 31342111 | G6: 26142461 | H6: 31342111 | I6: =H6-F6 -> 0
A7: Települési önkormányzatok kulturális feladatainak támogatása | B7: B114 | C7: 2958781 | D7: 2958781 | E7: 2932225 | F7: 2932225 | G7: 2463069 | H7: 2932225 | I7: =H7-F7 -> 0
A8: Működési célú költségvetési támogatások és kiegészítő támogatások | B8: B115 | D8: 6868518 | E8: 0 | F8: 3560440 | G8: 6493363 | H8: 6493363 | I8: =H8-F8 -> 2932923
A9: Elszámolásból származó bevételek | B9: B116 | D9: 349828 | E9: 0 | F9: 0 | G9: 0 | H9: 0 | I9: =H9-F9 -> 0
A10: Önkormányzatok működési támogatásai | B10: B11 | C10: =SUM(C3:C9) -> 367319939 | D10: =SUM(D3:D9) -> 360925746 | E10: 432248550 | F10: 467676752 | G10: =SUM(G3:G9) -> 391720414 | H10: =SUM(H3:H9) -> 470609675 | I10: =H10-F10 -> 2932923
A11: Elvonások és befizetések bevételei | B11: B12 | E11: 0 | F11: 0 | G11: 0 | H11: 0 | I11: =H11-F11 -> 0
A12: Működési célú garancia- és kezességvállalásból származó megtérülések államháztartáson belülről | B12: B13 | E12: 0 | F12: 0 | G12: 0 | H12: 0 | I12: =H12-F12 -> 0
A13: Működési célú visszatérítendő támogatások, kölcsönök visszatérülése államháztartáson belülről | B13: B14 | E13: 0 | F13: 0 | G13: 0 | H13: 0 | I13: =H13-F13 -> 0
A14: Működési célú visszatérítendő támogatások, kölcsönök igénybevétele államháztartáson belülről | B14: B15 | E14: 0 | F14: 0 | G14: 0 | H14: 0 | I14: =H14-F14 -> 0
A15: Egyéb működési célú támogatások bevételei államháztartáson belülről | B15: B16 | C15: 28260590 | D15: 38837470 | E15: 38952021 | F15: 34952021 | G15: 31005137 | H15: 34952021 | I15: =H15-F15 -> 0
A16: Működési célú támogatások államháztartáson belülről | B16: B1 | C16: =SUM(C10:C15) -> 395580529 | D16: =SUM(D10:D15) -> 399763216 | E16: 471200571 | F16: 502628773 | G16: =SUM(G10:G15) -> 422725551 | H16: =SUM(H10:H15) -> 505561696 | I16: =H16-F16 -> 2932923
A17: Magánszemélyek jövedelemadói | B17: B311 | E17: 0 | F17: 0 | G17: 0 | H17: 0 | I17: =H17-F17 -> 0
A18: Társaságok jövedelemadói | B18: B312 | E18: 0 | F18: 0 | G18: 0 | H18: 0 | I18: =H18-F18 -> 0
A19: Jövedelemadók | B19: B31 | C19: =SUM(C17:C18) -> 0 | D19: =SUM(D17:D18) -> 0 | E19: 0 | F19: 0 | G19: =SUM(G17:G18) -> 0 | H19: 0 | I19: =H19-F19 -> 0
A20: Szociális hozzájárulási adó és járulékok | B20: B32 | E20: 0 | F20: 0 | G20: 0 | H20: 0 | I20: =H20-F20 -> 0
A21: Bérhez és foglalkoztatáshoz kapcsolódó adók | B21: B33 | E21: 0 | F21: 0 | G21: 0 | H21: 0 | I21: =H21-F21 -> 0
A22: Vagyoni típusú adók | B22: B34 | E22: 0 | F22: 0 | G22: 0 | H22: 0 | I22: =H22-F22 -> 0
A23: Értékesítési és forgalmi adók | B23: B351 | C23: 17000000 | D23: 32889557 | E23: 22000000 | F23: 22000000 | G23: 33729603 | H23: 22000000 | I23: =H23-F23 -> 0
A24: Fogyasztási adók | B24: B352 | E24: 0 | F24: 0 | G24: 0 | H24: 0 | I24: =H24-F24 -> 0
A25: Pénzügyi monopóliumok nyereségét terhelő adók | B25: B353 | E25: 0 | F25: 0 | G25: 0 | H25: 0 | I25: =H25-F25 -> 0
A26: Gépjárműadók | B26: B354 | E26: 0 | F26: 0 | G26: 0 | H26: 0 | I26: =H26-F26 -> 0
A27: Egyéb áruhasználati és szolgáltatási adók | B27: B355 | C27: 300000 | D27: 272600 | E27: 270000 | F27: 270000 | G27: 185200 | H27: 200000 | I27: =H27-F27 -> -70000
A28: Termékek és szolgáltatások adói | B28: B35 | C28: =SUM(C23:C27) -> 17300000 | D28: =SUM(D23:D27) -> 33162157 | E28: 22270000 | F28: 22270000 | G28: =SUM(G23:G27) -> 33914803 | H28: =SUM(H23:H27) -> 22200000 | I28: =H28-F28 -> -70000
A29: Egyéb közhatalmi bevételek | B29: B36 | D29: 2071572 | E29: 1000000 | F29: 800000 | G29: 530712 | H29: 650000 | I29: =H29-F29 -> -150000
A30: Közhatalmi bevételek | B30: B3 | C30: =C19+C20+C21+C22+C28+C29 -> 17300000 | D30: =D19+D20+D21+D22+D28+D29 -> 35233729 | E30: 23270000 | F30: 23070000 | G30: =G19+G20+G21+G22+G28+G29 -> 34445515 | H30: =H19+H20+H21+H22+H28+H29 -> 22850000 | I30: =H30-F30 -> -220000
A31: Készletértékesítés ellenértéke | B31: B401 | E31: 0 | F31: 0 | G31: 0 | H31: 0 | I31: =H31-F31 -> 0
A32: Szolgáltatások ellenértéke | B32: B402 | C32: 2600000 | D32: 5614712 | E32: 3555000 | F32: 3555000 | G32: 3741891 | H32: 3605000 | I32: =H32-F32 -> 50000
A33: Közvetített szolgáltatások ellenértéke | B33: B403 | E33: 0 | F33: 0 | G33: 0 | H33: 0 | I33: =H33-F33 -> 0
A34: Tulajdonosi bevételek | B34: B404 | C34: 2712500 | E34: 0 | F34: 0 | G34: 0 | H34: 0 | I34: =H34-F34 -> 0
A35: Ellátási díjak | B35: B405 | C35: 3000000 | D35: 2933390 | E35: 3000000 | F35: 3000000 | G35: 2516075 | H35: 3000000 | I35: =H35-F35 -> 0
A36: Kiszámlázott általános forgalmi adó | B36: B406 | C36: 1300000 | D36: 1235770 | E36: 10255863 | F36: 10255863 | G36: 10378237 | H36: 10378237 | I36: =H36-F36 -> 122374
A37: Általános forgalmi adó visszatérítése | B37: B407 | E37: 0 | F37: 0 | G37: 0 | H37: 0 | I37: =H37-F37 -> 0
A38: Kamatbevételek és más nyereségjellegű bevételek | B38: B408 | D38: 21 | E38: 0 | F38: 0 | G38: 42 | H38: 0 | I38: =H38-F38 -> 0
A39: Egyéb pénzügyi műveletek bevételei | B39: B409 | E39: 0 | F39: 0 | G39: 0 | H39: 0 | I39: =H39-F39 -> 0
A40: Biztosító által fizetett kártérítés | B40: B410 | E40: 0 | F40: 0 | G40: 41250 | H40: 41250 | I40: =H40-F40 -> 41250
...
